BEGIN:VCALENDAR
VERSION:2.0
PRODID:-//Patrick Hawes - ECPv6.15.20//NONSGML v1.0//EN
CALSCALE:GREGORIAN
METHOD:PUBLISH
X-WR-CALNAME:Patrick Hawes
X-ORIGINAL-URL:https://www.patrickhawes.com
X-WR-CALDESC:Events for Patrick Hawes
REFRESH-INTERVAL;VALUE=DURATION:PT1H
X-Robots-Tag:noindex
X-PUBLISHED-TTL:PT1H
BEGIN:VTIMEZONE
TZID:Europe/London
BEGIN:DAYLIGHT
TZOFFSETFROM:+0000
TZOFFSETTO:+0100
TZNAME:BST
DTSTART:20150329T010000
END:DAYLIGHT
BEGIN:STANDARD
TZOFFSETFROM:+0100
TZOFFSETTO:+0000
TZNAME:GMT
DTSTART:20151025T010000
END:STANDARD
BEGIN:DAYLIGHT
TZOFFSETFROM:+0000
TZOFFSETTO:+0100
TZNAME:BST
DTSTART:20160327T010000
END:DAYLIGHT
BEGIN:STANDARD
TZOFFSETFROM:+0100
TZOFFSETTO:+0000
TZNAME:GMT
DTSTART:20161030T010000
END:STANDARD
BEGIN:DAYLIGHT
TZOFFSETFROM:+0000
TZOFFSETTO:+0100
TZNAME:BST
DTSTART:20170326T010000
END:DAYLIGHT
BEGIN:STANDARD
TZOFFSETFROM:+0100
TZOFFSETTO:+0000
TZNAME:GMT
DTSTART:20171029T010000
END:STANDARD
BEGIN:DAYLIGHT
TZOFFSETFROM:+0000
TZOFFSETTO:+0100
TZNAME:BST
DTSTART:20180325T010000
END:DAYLIGHT
BEGIN:STANDARD
TZOFFSETFROM:+0100
TZOFFSETTO:+0000
TZNAME:GMT
DTSTART:20181028T010000
END:STANDARD
BEGIN:DAYLIGHT
TZOFFSETFROM:+0000
TZOFFSETTO:+0100
TZNAME:BST
DTSTART:20190331T010000
END:DAYLIGHT
BEGIN:STANDARD
TZOFFSETFROM:+0100
TZOFFSETTO:+0000
TZNAME:GMT
DTSTART:20191027T010000
END:STANDARD
END:VTIMEZONE
BEGIN:VTIMEZONE
TZID:America/Los_Angeles
BEGIN:DAYLIGHT
TZOFFSETFROM:-0800
TZOFFSETTO:-0700
TZNAME:PDT
DTSTART:20160313T100000
END:DAYLIGHT
BEGIN:STANDARD
TZOFFSETFROM:-0700
TZOFFSETTO:-0800
TZNAME:PST
DTSTART:20161106T090000
END:STANDARD
BEGIN:DAYLIGHT
TZOFFSETFROM:-0800
TZOFFSETTO:-0700
TZNAME:PDT
DTSTART:20170312T100000
END:DAYLIGHT
BEGIN:STANDARD
TZOFFSETFROM:-0700
TZOFFSETTO:-0800
TZNAME:PST
DTSTART:20171105T090000
END:STANDARD
BEGIN:DAYLIGHT
TZOFFSETFROM:-0800
TZOFFSETTO:-0700
TZNAME:PDT
DTSTART:20180311T100000
END:DAYLIGHT
BEGIN:STANDARD
TZOFFSETFROM:-0700
TZOFFSETTO:-0800
TZNAME:PST
DTSTART:20181104T090000
END:STANDARD
END:VTIMEZONE
BEGIN:VEVENT
DTSTART;VALUE=DATE:20180414
DTEND;VALUE=DATE:20180415
DTSTAMP:20260422T170656
CREATED:20180219T141006Z
LAST-MODIFIED:20180219T141006Z
UID:3566-1523664000-1523750399@www.patrickhawes.com
SUMMARY:Song of Songs
DESCRIPTION:The Noctis Chamber Choir perform Patrick’s Song of Songs in their evening of chamber music celebrating the joys of spring and love. \nSong of Songs is a collection of six pieces – Love’s Promise\, Rhapsody\, Many Waters\, Faint With Love\, Love’s Echo and Song of Songs – based on the collection of love poetry which forms the Old Testament’s Song of Songs.
URL:https://www.patrickhawes.com/event/song-of-songs-3/
END:VEVENT
BEGIN:VEVENT
DTSTART;VALUE=DATE:20180407
DTEND;VALUE=DATE:20180408
DTSTAMP:20260422T170656
CREATED:20180219T165837Z
LAST-MODIFIED:20180219T170248Z
UID:3578-1523059200-1523145599@www.patrickhawes.com
SUMMARY:Quanta Qualia
DESCRIPTION:CitySound Voices present their concert of Songs of Praise and Meditation in Bath Abbey featuring Patrick’s Quanta Qualia. \nFree admission.
URL:https://www.patrickhawes.com/event/quanta-qualia/
LOCATION:Bath Abbey
CATEGORIES:Music
END:VEVENT
BEGIN:VEVENT
DTSTART;VALUE=DATE:20180318
DTEND;VALUE=DATE:20180319
DTSTAMP:20260422T170656
CREATED:20180219T140214Z
LAST-MODIFIED:20180219T140214Z
UID:3564-1521331200-1521417599@www.patrickhawes.com
SUMMARY:Psalm 91
DESCRIPTION:The Wordsworth Singers under conductor Mark Hindley present the second of two performances of Patrick’s beautiful setting of Psalm 91\, commonly known as the Psalm of Protection\, for a cappella SATB choir with an SATB quartet.  Originally written for the Artistic Director of the Lancaster Chorale (Ohio) on his retirement from the Chorale.
URL:https://www.patrickhawes.com/event/psalm-91/
CATEGORIES:Music
END:VEVENT
BEGIN:VEVENT
DTSTART;VALUE=DATE:20180317
DTEND;VALUE=DATE:20180318
DTSTAMP:20260422T170656
CREATED:20180219T135959Z
LAST-MODIFIED:20180219T135959Z
UID:3560-1521244800-1521331199@www.patrickhawes.com
SUMMARY:Psalm 91(U.K. Premiere)
DESCRIPTION:The Wordsworth Singers under conductor Mark Hindley present the U.K. Premiere of Patrick’s beautiful setting of Psalm 91\, commonly known as the Psalm of Protection\, for a cappella SATB choir with an SATB quartet.  Originally written for the Artistic Director of the Lancaster Chorale (Ohio) on his retirement from the Chorale.
URL:https://www.patrickhawes.com/event/psalm-91u-k-premiere/
CATEGORIES:Music
END:VEVENT
BEGIN:VEVENT
DTSTART;VALUE=DATE:20180310
DTEND;VALUE=DATE:20180311
DTSTAMP:20260422T170656
CREATED:20180219T150026Z
LAST-MODIFIED:20180219T150026Z
UID:3576-1520640000-1520726399@www.patrickhawes.com
SUMMARY:The Twenty-Third Psalm
DESCRIPTION:Patrick will be conducting the St Chad’s College (Durham) Alumni Choir in their special Chadstide Evensong service at St Mary’s\, Bourne Street\, London. \nMusic will include Tallis’ O nata lux\, Rossini’s O Salutaris and Patrick’s setting of The Twenty-Third Psalm (The Lord is my Shepherd).
URL:https://www.patrickhawes.com/event/twenty-third-psalm/
CATEGORIES:Music
END:VEVENT
BEGIN:VEVENT
DTSTART;VALUE=DATE:20180202
DTEND;VALUE=DATE:20180203
DTSTAMP:20260422T170656
CREATED:20161027T173937Z
LAST-MODIFIED:20171207T173457Z
UID:1420-1517529600-1517615999@www.patrickhawes.com
SUMMARY:A King's Ransom(Children's Opera)
DESCRIPTION:The second of two Norwich performances of Patrick’s Children’s Opera A King’s Ransom.  The opera has been recently revised by Patrick in association with Into Opera and offers an unusual twist on the Robin Hood story. \nTickets available from OPEN Norwich. \nVIP Sponsorship Tickets:  As part of the gala premiere evening on 1st Feb\, we are selling a limited number of VIP Sponsorship Tickets which allow access to: \n\nA pre-show talk and Q&A from 6-6.30pm at the OPEN theatre with Patrick and Andrew Hawes\nReserved VIP seats for the performance\nA post-show reception at The Maids Head Hotel with the opera team (including a complimentary glass of prosecco on arrival and canapés)\n\nClick here for VIP Sponsorship Tickets.
URL:https://www.patrickhawes.com/event/a-kings-ransom-childrens-opera-2/
LOCATION:OPEN Theatre\, Norwich
CATEGORIES:Music
ATTACH;FMTTYPE=image/jpeg:https://www.patrickhawes.com/wp-content/uploads/2016/10/Thumbnail-screenshot.jpg
END:VEVENT
BEGIN:VEVENT
DTSTART;VALUE=DATE:20180201
DTEND;VALUE=DATE:20180202
DTSTAMP:20260422T170656
CREATED:20161027T173650Z
LAST-MODIFIED:20171207T173336Z
UID:1416-1517443200-1517529599@www.patrickhawes.com
SUMMARY:A King's Ransom(Children's Opera)
DESCRIPTION:The first of two Norwich performances of Patrick’s Children’s Opera A King’s Ransom.  The opera has been recently revised by Patrick in association with Into Opera and offers an unusual twist on the Robin Hood story. \nTickets available from OPEN Norwich. \nVIP Sponsorship Tickets:  As part of the gala premiere evening on 1st Feb\, we are selling a limited number of VIP Sponsorship Tickets which allow access to: \n\nA pre-show talk and Q&A from 6-6.30pm at the OPEN theatre with Patrick and Andrew Hawes\nReserved VIP seats for the performance\nA post-show reception at The Maids Head Hotel with the opera team (including a complimentary glass of prosecco on arrival and canapés)\n\nClick here for VIP Sponsorship Tickets.
URL:https://www.patrickhawes.com/event/a-kings-ransom-childrens-opera/
LOCATION:OPEN Theatre\, Norwich
CATEGORIES:Music
ATTACH;FMTTYPE=image/jpeg:https://www.patrickhawes.com/wp-content/uploads/2016/10/Thumbnail-screenshot.jpg
END:VEVENT
BEGIN:VEVENT
DTSTART;VALUE=DATE:20171201
DTEND;VALUE=DATE:20171204
DTSTAMP:20260422T170656
CREATED:20171005T110607Z
LAST-MODIFIED:20171005T111059Z
UID:3353-1512086400-1512345599@www.patrickhawes.com
SUMMARY:The Waters of Love
DESCRIPTION:The Westmont College Choir and Orchestra will be performing Patrick’s The Waters of Love as part of their Thirteenth Annual Christmas Festival. \nFriday\, December 1st: Thirteenth Annual Christmas Concert\, First Presbyterian Church\, 7:00 p.m.\n…………………($15 general admission)\nSaturday\, December 2nd: Thirteenth Annual Christmas Concert\, First Presbyterian Church\, 2 p.m.\n…………………($15 general admission)\nSaturday\, December 2nd: Thirteenth Annual Christmas Concert\, First Presbyterian Church\, 7 p.m.\n…………………(Admission by invitation only)\nSunday\, December 3rd: Thirteenth Annual Christmas Concert\, First Presbyterian Church\, 3 p.m.\n…………………($15 general admission)
URL:https://www.patrickhawes.com/event/the-waters-of-love/
LOCATION:First Presbyterian Church\, Westmont\, CA\, United States
ATTACH;FMTTYPE=image/jpeg:https://www.patrickhawes.com/wp-content/uploads/2017/10/the-wedding-feast-at-cana-veronese.jpg
END:VEVENT
BEGIN:VEVENT
DTSTART;VALUE=DATE:20171201
DTEND;VALUE=DATE:20171204
DTSTAMP:20260422T170656
CREATED:20171005T105852Z
LAST-MODIFIED:20171005T110004Z
UID:3348-1512086400-1512345599@www.patrickhawes.com
SUMMARY:The Colours of Christmas
DESCRIPTION:The Westmont College Choir and Orchestra will be performing Patrick’s The Colours of Christmas as part of their Thirteenth Annual Christmas Festival. \nFriday\, December 1st: Thirteenth Annual Christmas Concert\, First Presbyterian Church\, 7:00 p.m.\n…………………($15 general admission)\nSaturday\, December 2nd: Thirteenth Annual Christmas Concert\, First Presbyterian Church\, 2 p.m.\n…………………($15 general admission)\nSaturday\, December 2nd: Thirteenth Annual Christmas Concert\, First Presbyterian Church\, 7 p.m.\n…………………(Admission by invitation only)\nSunday\, December 3rd: Thirteenth Annual Christmas Concert\, First Presbyterian Church\, 3 p.m.\n…………………($15 general admission)
URL:https://www.patrickhawes.com/event/the-colours-of-christmas/
LOCATION:First Presbyterian Church\, Westmont\, CA\, United States
ATTACH;FMTTYPE=image/jpeg:https://www.patrickhawes.com/wp-content/uploads/2017/10/epiphany.jpg
END:VEVENT
BEGIN:VEVENT
DTSTART;VALUE=DATE:20171112
DTEND;VALUE=DATE:20171113
DTSTAMP:20260422T170656
CREATED:20171005T102850Z
LAST-MODIFIED:20171005T102850Z
UID:3339-1510444800-1510531199@www.patrickhawes.com
SUMMARY:Remember
DESCRIPTION:The Choir of Wakefield Cathedral will be performing Remember in their service commemorating the life of WWI nurse Nellie Spindler.
URL:https://www.patrickhawes.com/event/remember/
LOCATION:Wakefield Cathedral\, Westmorland St\, Wakefield\, WF1 1PJ\, United Kingdom
ATTACH;FMTTYPE=image/jpeg:https://www.patrickhawes.com/wp-content/uploads/2017/10/Nellie-Spindler.jpg
END:VEVENT
BEGIN:VEVENT
DTSTART;VALUE=DATE:20171105
DTEND;VALUE=DATE:20171106
DTSTAMP:20260422T170656
CREATED:20170810T160255Z
LAST-MODIFIED:20170810T160255Z
UID:3315-1509840000-1509926399@www.patrickhawes.com
SUMMARY:Peace Beyond Thought
DESCRIPTION:The vOx Chamber Choir will be performing Peace Beyond Thought from Patrick’s recent album Revelation as part of the second of their Remembrance Concerts along with Herbert Howell’s Requiem.
URL:https://www.patrickhawes.com/event/peace-beyond-thought-2/
LOCATION:St Michael’s\, Great Tew\, United Kingdom
CATEGORIES:Music
ATTACH;FMTTYPE=image/jpeg:https://www.patrickhawes.com/wp-content/uploads/2017/08/vOx-logo-1.jpg
END:VEVENT
BEGIN:VEVENT
DTSTART;VALUE=DATE:20171104
DTEND;VALUE=DATE:20171105
DTSTAMP:20260422T170656
CREATED:20170810T155951Z
LAST-MODIFIED:20170810T160352Z
UID:3308-1509753600-1509839999@www.patrickhawes.com
SUMMARY:Peace Beyond Thought
DESCRIPTION:The vOx Chamber Choir will be performing Peace Beyond Thought from Patrick’s recent album Revelation as part of the first of their Remembrance Concerts along with Herbert Howell’s Requiem.
URL:https://www.patrickhawes.com/event/peace-beyond-thought/
LOCATION:St Andrew’s\, Oxford\, United Kingdom
CATEGORIES:Music
ATTACH;FMTTYPE=image/jpeg:https://www.patrickhawes.com/wp-content/uploads/2017/08/vOx-logo-1.jpg
END:VEVENT
BEGIN:VEVENT
DTSTART;VALUE=DATE:20171022
DTEND;VALUE=DATE:20171023
DTSTAMP:20260422T170656
CREATED:20171005T104412Z
LAST-MODIFIED:20171005T104412Z
UID:3344-1508630400-1508716799@www.patrickhawes.com
SUMMARY:Beatitudes
DESCRIPTION:The Missouri State University Chorale under conductor Cameron LaBarr will perform a concert of music for choir and piano featuring Patrick’s setting of the Beatitudes.
URL:https://www.patrickhawes.com/event/beatitudes/
LOCATION:Hammons Hall for the Performing Arts\, Juanita K.\, Missouri\, United States
ATTACH;FMTTYPE=image/jpeg:https://www.patrickhawes.com/wp-content/uploads/2017/10/Sheet-Music-Beatitudes-front-cover.jpg
END:VEVENT
BEGIN:VEVENT
DTSTART;VALUE=DATE:20170916
DTEND;VALUE=DATE:20170917
DTSTAMP:20260422T170656
CREATED:20170418T081917Z
LAST-MODIFIED:20170809T083608Z
UID:3157-1505520000-1505606399@www.patrickhawes.com
SUMMARY:St George & the Dragon(World Premiere)
DESCRIPTION:The World Premiere of Patrick’s new work\, St George & the Dragon\, commissioned by the National Youth Harp Orchestra\, will be performed in St James Piccadilly\, London at 7:30pm on 16th September by the orchestra under the direction of Luisa-Maria Cordell.
URL:https://www.patrickhawes.com/event/st-george-dragon-world-premiere/
LOCATION:St James’ Piccadilly\, 197 Piccadilly\, London\, W1J 9LL
CATEGORIES:Music
END:VEVENT
BEGIN:VEVENT
DTSTART;VALUE=DATE:20170909
DTEND;VALUE=DATE:20170910
DTSTAMP:20260422T170656
CREATED:20170809T085311Z
LAST-MODIFIED:20170814T063811Z
UID:3287-1504915200-1505001599@www.patrickhawes.com
SUMMARY:Christian Soldiers
DESCRIPTION:Christian Soldiers is an excerpt from the first movement of The Great War Symphony\, a new choral symphony to be written by Patrick to mark the end of the First World War centenary commemorations.  Christian Soldiers is\, in part\, a homage to one of the most celebrated composers of that time\, Edward Elgar\, as well as being a section of a much larger musical memorial to those who fought in the war. \nThis performance by the South West Philharmonia & Chorus features as part of their ‘Last Night of the Proms comes to Plymouth’ in the Plymouth Guildhall.
URL:https://www.patrickhawes.com/event/christian-soldiers/
LOCATION:Plymouth Guildhall\, Plymouth\, United Kingdom
ATTACH;FMTTYPE=image/jpeg:https://www.patrickhawes.com/wp-content/uploads/2015/06/NLS_Haig_-_Troops_moving_up_at_eventide_-_men_of_a_Yorkshire_regiment_on_the_march-2.jpg
END:VEVENT
BEGIN:VEVENT
DTSTART;VALUE=DATE:20170701
DTEND;VALUE=DATE:20170702
DTSTAMP:20260422T170656
CREATED:20161215T070029Z
LAST-MODIFIED:20170418T083621Z
UID:2444-1498867200-1498953599@www.patrickhawes.com
SUMMARY:Song of Songs & The Angel of Mons
DESCRIPTION:The Norwich Baroque Orchestra and the Seraphim upper-voice ensemble directed by Vetta Wise will be performing Patrick’s Song of Songs and a new version of The Angel of Mons for upper voices in their concert Love & Sacrifice. \nClick here for more information about Song of Songs. \nClick here for more information about The Angel of Mons.
URL:https://www.patrickhawes.com/event/song-songs-angel-mons/
LOCATION:St Stephen’s Church\, Rampant Horse Street\, Norwich\, Norfolk\, NR2 1QP\, United Kingdom
CATEGORIES:Music
ATTACH;FMTTYPE=image/jpeg:https://www.patrickhawes.com/wp-content/uploads/2016/12/Norwich-Baroque-thumbnail.jpg
END:VEVENT
BEGIN:VEVENT
DTSTART;VALUE=DATE:20170622
DTEND;VALUE=DATE:20170623
DTSTAMP:20260422T170656
CREATED:20170324T123800Z
LAST-MODIFIED:20170324T124002Z
UID:3120-1498089600-1498175999@www.patrickhawes.com
SUMMARY:Song of Songs
DESCRIPTION:The Limerick Choral Union will be performing Patrick’s Song of Songs as part of the opening concert for the Limerick Sings Choral Festival 2017. \nTicket details to follow soon.
URL:https://www.patrickhawes.com/event/song-of-songs/
LOCATION:University Concert Hall (UCH)\, Limerick\, Ireland
ATTACH;FMTTYPE=image/jpeg:https://www.patrickhawes.com/wp-content/uploads/2016/11/Song-of-Songs.jpg
END:VEVENT
BEGIN:VEVENT
DTSTART;VALUE=DATE:20170530
DTEND;VALUE=DATE:20170531
DTSTAMP:20260422T170656
CREATED:20170424T163610Z
LAST-MODIFIED:20170424T164042Z
UID:3201-1496102400-1496188799@www.patrickhawes.com
SUMMARY:The Gift of Music - WORLD PREMIERE
DESCRIPTION:Back in January\, The King’s Singers premiered the new Latin work Patrick wrote for them\, Musica Dei Donum\, at the Scuola Grande San Giovanni Evangelista in Venice. \nNow the multi-award winning group premiere the English setting of the work\, The Gift of Music\, at the Hasselt University and\, very interestingly\, it has a different character to its Latin counterpart.
URL:https://www.patrickhawes.com/event/gift-music-world-premiere/
LOCATION:Cultuurcentrum Hasselt\, Belgium
ATTACH;FMTTYPE=image/jpeg:https://www.patrickhawes.com/wp-content/uploads/2017/04/Kings-Singers_thumbnail.jpg
END:VEVENT
BEGIN:VEVENT
DTSTART;VALUE=DATE:20170514
DTEND;VALUE=DATE:20170515
DTSTAMP:20260422T170656
CREATED:20170424T165034Z
LAST-MODIFIED:20170424T165034Z
UID:3206-1494720000-1494806399@www.patrickhawes.com
SUMMARY:Archangel Suite
DESCRIPTION:The choir of the Presbyterian Church of Lawrenceville\, New Jersey will be singing Patrick’s Archangel Suite under the direction of their superb conductor James D Moyer. \n 
URL:https://www.patrickhawes.com/event/archangel-suite/
ATTACH;FMTTYPE=image/jpeg:https://www.patrickhawes.com/wp-content/uploads/2017/04/Album-Cover-without-text.jpg
END:VEVENT
BEGIN:VEVENT
DTSTART;VALUE=DATE:20170416
DTEND;VALUE=DATE:20170417
DTSTAMP:20260422T170656
CREATED:20170324T125127Z
LAST-MODIFIED:20170324T125127Z
UID:3128-1492300800-1492387199@www.patrickhawes.com
SUMMARY:BBC Radio 2
DESCRIPTION:Patrick will be talking to Clare Balding on BBC Radio 2’s Good Morning Sunday programme on Easter Sunday about his album Revelation.
URL:https://www.patrickhawes.com/event/bbc-radio-2/
ATTACH;FMTTYPE=image/jpeg:https://www.patrickhawes.com/wp-content/uploads/2017/03/IMG_2939-scaled.jpg
END:VEVENT
BEGIN:VEVENT
DTSTART;VALUE=DATE:20170401
DTEND;VALUE=DATE:20170402
DTSTAMP:20260422T170656
CREATED:20170324T131451Z
LAST-MODIFIED:20170329T065939Z
UID:3132-1491004800-1491091199@www.patrickhawes.com
SUMMARY:Perfect Love
DESCRIPTION:The Andante Singers in the Scottish Borders will be singing Patrick’s Perfect Love in their LOVE / DIVINE concert\, also featuring sacred music by John Stainer\, James MacMillan\, and Thomas Tallis.
URL:https://www.patrickhawes.com/event/song-of-songs-2/
LOCATION:West Church\, Haddington\, East Lothian\, EH41\, United Kingdom
END:VEVENT
BEGIN:VEVENT
DTSTART;VALUE=DATE:20170401
DTEND;VALUE=DATE:20170402
DTSTAMP:20260422T170656
CREATED:20161215T063645Z
LAST-MODIFIED:20161215T063854Z
UID:2438-1491004800-1491091199@www.patrickhawes.com
SUMMARY:Te Deum
DESCRIPTION:Patrick’s major choral setting of the Te Deum will be performed by the Hickory Choral Society\, North Carolina\, US. \nClick here for more information about Patrick’s setting of the Te Deum.
URL:https://www.patrickhawes.com/event/te-deum/
LOCATION:NC\, United States
CATEGORIES:Music
END:VEVENT
BEGIN:VEVENT
DTSTART;VALUE=DATE:20170331
DTEND;VALUE=DATE:20170401
DTSTAMP:20260422T170656
CREATED:20161027T174047Z
LAST-MODIFIED:20161027T174047Z
UID:1424-1490918400-1491004799@www.patrickhawes.com
SUMMARY:Winter (from The Land) 31st March 2017
DESCRIPTION:The Gildenburgh Choir will be performing Winter from Patrick’s wort ‘The Land’ as part of their tour to the Isle of Man. \nTicket details to follow.
URL:https://www.patrickhawes.com/event/winter-from-the-land-31st-march-2017/
CATEGORIES:Music
ATTACH;FMTTYPE=image/png:https://www.patrickhawes.com/wp-content/uploads/2016/10/Event.png
END:VEVENT
BEGIN:VEVENT
DTSTART;VALUE=DATE:20170312
DTEND;VALUE=DATE:20170313
DTSTAMP:20260422T170656
CREATED:20161027T173525Z
LAST-MODIFIED:20170216T145148Z
UID:1411-1489276800-1489363199@www.patrickhawes.com
SUMMARY:Clarinet Concerto - Premiere Performance
DESCRIPTION:The premiere performance of Patrick’s new Clarinet Concerto written especially for Emma Johnson. Emma will be performing alongside the Academy of St Thomas orchestra of Norwich. \nThe Clarinet Concerto features on Emma’s new album An English Fantasy\, recorded with the BBC Concert Orchestra conducted by Phil Ellis and released on Nimbus Records. \nPatrick Hawes’s Clarinet Concerto [is] musically nourishing…a fine work….gorgeous…” GRAMOPHONE (Aug 2016)
URL:https://www.patrickhawes.com/event/clarinet-concerto-premiere-performance/
LOCATION:St Andrew’s Hall\, Norwich
CATEGORIES:Music
ATTACH;FMTTYPE=image/jpeg:https://www.patrickhawes.com/wp-content/uploads/2016/10/Emma-Johnson.jpg
END:VEVENT
BEGIN:VEVENT
DTSTART;VALUE=DATE:20170308
DTEND;VALUE=DATE:20170309
DTSTAMP:20260422T170656
CREATED:20161027T172815Z
LAST-MODIFIED:20170106T091857Z
UID:1405-1488931200-1489017599@www.patrickhawes.com
SUMMARY:ACDA Convention
DESCRIPTION:Patrick will be at the ACDA Convention 2017 where some of his new works from Revelation will be showcased. Patrick will also be taking part in a ‘Meet the Composer’ session. More details to follow.
URL:https://www.patrickhawes.com/event/acda-convention/
LOCATION:Minneapolis
ATTACH;FMTTYPE=image/jpeg:https://www.patrickhawes.com/wp-content/uploads/2016/10/ACDA-logo1.jpg
END:VEVENT
BEGIN:VEVENT
DTSTART;VALUE=DATE:20170304
DTEND;VALUE=DATE:20170305
DTSTAMP:20260422T170656
CREATED:20170122T163606Z
LAST-MODIFIED:20170122T163606Z
UID:2868-1488585600-1488671999@www.patrickhawes.com
SUMMARY:Reflexionem
DESCRIPTION:Following their hugely successful concert ‘Women in Music and Poetry’ last year\, The Cecilia Consort’s spring concert will delight with a programme of the best of male contemporary composers including Patrick’s Reflexionem.
URL:https://www.patrickhawes.com/event/reflexionem/
ATTACH;FMTTYPE=image/jpeg:https://www.patrickhawes.com/wp-content/uploads/2017/01/Cecelia-Consort-Concert.jpg
END:VEVENT
BEGIN:VEVENT
DTSTART;VALUE=DATE:20170210
DTEND;VALUE=DATE:20170211
DTSTAMP:20260422T170656
CREATED:20161027T172535Z
LAST-MODIFIED:20170121T133344Z
UID:1401-1486684800-1486771199@www.patrickhawes.com
SUMMARY:Revelation - NEW ALBUM
DESCRIPTION:Patrick’s eagerly awaited new album Revelation is released on 10th February 2017 on the Naxos label!  Read more →
URL:https://www.patrickhawes.com/event/revelation-new-album/
LOCATION:Global
ATTACH;FMTTYPE=image/jpeg:https://www.patrickhawes.com/wp-content/uploads/2016/10/573720-1.jpg
END:VEVENT
BEGIN:VEVENT
DTSTART;VALUE=DATE:20170124
DTEND;VALUE=DATE:20170125
DTSTAMP:20260422T170656
CREATED:20170109T092757Z
LAST-MODIFIED:20170109T094052Z
UID:2834-1485216000-1485302399@www.patrickhawes.com
SUMMARY:Musica Dei Donum - WORLD PREMIERE
DESCRIPTION:The King’s Singers will be premiering the new work Patrick has written for them\, Musica Dei Donum\, at the Scuola Grande San Giovanni Evangelista in Venice. \n 
URL:https://www.patrickhawes.com/event/musica-dei-donum/
LOCATION:Scuola Grande San Giovanni Evangelista\, Venice\, Italy
ATTACH;FMTTYPE=image/jpeg:https://www.patrickhawes.com/wp-content/uploads/2017/01/KS-formal-portrait-cropped-e1483954056887.jpg
END:VEVENT
BEGIN:VEVENT
DTSTART;TZID=Europe/London:20161104T193000
DTEND;TZID=Europe/London:20161104T213000
DTSTAMP:20260422T170656
CREATED:20161027T165232Z
LAST-MODIFIED:20161122T122321Z
UID:1383-1478287800-1478295000@www.patrickhawes.com
SUMMARY:In the Company of Angels
DESCRIPTION:Patrick Hawes – Prayer to a guardian angel\nJohn Tavener – Angels\nPaul Drayton – How like an angel\nHeinrich Isaac – Angeli\, Archangeli\nPatrick Hawes – Angelus Domini\nPalestrina – Angelus domini\nDimitri Bortniansky – Cherubic Hymn\nMichael Tippet – Plebs Angelica\nDavid Hamilton – Angele Dei\nRichard Dering – Factum est silentium\nPavel Chesnokov – Cherubic Hymn\nPatrick Hawes – Factum est silentium \ndirector – Katherine Dienes-Williams\norgan – Paul Provost \nTicket are available from the Cathedral Box Office (01962 857275) – BOOK NOW\n£16 (concessions £14; children age 17 and under £5) \nWe hope you will join us in the Cathedral Quire for this choral collection on the theme of angels. Angels and archangels have inspired some fine music through the ages\, and this concert will includes examples from the 15th and 16th centuries (Isaac\, Palestrina)\, the 17th and 18th (Dering\, Borthiansky) and the 20th (Chesnokov\, Tippett\, Tavener\, Drayton) as well as examples from notable current composers (Patrick Hawes\, David Hamilton).
URL:https://www.patrickhawes.com/event/in-the-company-of-angels/
LOCATION:Winchester Cathedral Quire\, London\, United Kingdom
CATEGORIES:Music
END:VEVENT
END:VCALENDAR